Workbook

Sheet Gesamtübersicht
A1: Datum | B1: wo | C1: Pers. | D1: Anzahl Fische | E1: Kg gekauft | F1: Rest | G1: Kg Gegessen | H1: EK Netto Je Kg | I1: Summe | K1: Lachs gr ø | L1: Kartoffeln gr ø | M1: Honig Senf Dill Sauce ml ø | N1: Baguette Stangen ø | O1: Zaziki ml ø
C2: =SUM(Gesamtübersicht!C3:C28) -> 94 | D2: =SUM(D3:D28) -> 31 | E2: =SUM(Gesamtübersicht!E3:E28) -> 40.392 | F2: =SUM(Gesamtübersicht!F3:F28) -> 6.497 | G2: =SUM(Gesamtübersicht!G3:G28) -> 33.895 | I2: =SUM(Gesamtübersicht!I3:I28) -> 510.92145 | K2: =AVERAGE(Gesamtübersicht!K3:K28) -> 0.37519534 | L2: =AVERAGE(Gesamtübersicht!L3:L28) -> 221 | M2: =AVERAGE(Gesamtübersicht!M3:M28) -> 30 | N2: =AVERAGE(Gesamtübersicht!N3:N28) -> 0.14 | O2: =AVERAGE(Gesamtübersicht!O3:O28) -> 54.333333
A3: 42856 | B3: GSV | C3: 3.5 | D3: 1 | E3: 1.5 | F3: 0 | G3: =IF(Gesamtübersicht!C3<>"",Gesamtübersicht!E3-Gesamtübersicht!F3,"") -> 1.5 | H3: 10.79 | I3: =IF(Gesamtübersicht!H3>0,Gesamtübersicht!H3*Gesamtübersicht!E3*1.07,"") -> 17.31795 | K3: =IF(Gesamtübersicht!C3<>"",Gesamtübersicht!G3/Gesamtübersicht!C3,"") -> 0.42857143
A4: 42857 | B4: zu Hause | C4: 6.5 | D4: 2 | E4: 3 | F4: 0.6 | G4: =IF(Gesamtübersicht!C4<>"",Gesamtübersicht!E4-Gesamtübersicht!F4,"") -> 2.4 | H4: 10.79 | I4: =IF(Gesamtübersicht!H4>0,Gesamtübersicht!H4*Gesamtübersicht!E4*1.07,"") -> 34.6359 | K4: =IF(Gesamtübersicht!C4<>"",Gesamtübersicht!G4/Gesamtübersicht!C4,"") -> 0.36923077
A5: 42858 | B5: Fest | C5: 15 | D5: 4 | E5: 5.1 | F5: 0.5 | G5: =IF(Gesamtübersicht!C5<>"",Gesamtübersicht!E5-Gesamtübersicht!F5,"") -> 4.6 | H5: 10.79 | I5: =IF(Gesamtübersicht!H5>0,Gesamtübersicht!H5*Gesamtübersicht!E5*1.07,"") -> 58.88103 | K5: =IF(Gesamtübersicht!C5<>"",Gesamtübersicht!G5/Gesamtübersicht!C5,"") -> 0.30666667
A6: 42859 | B6: GSV | C6: 7 | D6: 3 | E6: 3.9 | F6: 0.5 | G6: =IF(Gesamtübersicht!C6<>"",Gesamtübersicht!E6-Gesamtübersicht!F6,"") -> 3.4 | H6: 10.79 | I6: =IF(Gesamtübersicht!H6>0,Gesamtübersicht!H6*Gesamtübersicht!E6*1.07,"") -> 45.02667 | K6: =IF(Gesamtübersicht!C6<>"",Gesamtübersicht!G6/Gesamtübersicht!C6,"") -> 0.48571429
A7: 42860 | B7: Familie A | C7: 11 | D7: 4 | E7: 4.962 | F7: 0.5 | G7: =IF(Gesamtübersicht!C7<>"",Gesamtübersicht!E7-Gesamtübersicht!F7,"") -> 4.462 | H7: 10.79 | I7: =IF(Gesamtübersicht!H7>0,Gesamtübersicht!H7*Gesamtübersicht!E7*1.07,"") -> 57.287779 | K7: =IF(Gesamtübersicht!C7<>"",Gesamtübersicht!G7/Gesamtübersicht!C7,"") -> 0.40563636
A8: 42861 | B8: zu Hause | C8: 20 | D8: 6 | E8: 9.4 | F8: 1.31 | G8: =IF(Gesamtübersicht!C8<>"",Gesamtübersicht!E8-Gesamtübersicht!F8,"") -> 8.09 | H8: 12.69 | I8: =IF(Gesamtübersicht!H8>0,Gesamtübersicht!H8*Gesamtübersicht!E8*1.07,"") -> 127.63602 | K8: =IF(Gesamtübersicht!C8<>"",Gesamtübersicht!G8/Gesamtübersicht!C8,"") -> 0.4045 | L8: 183 | M8: 30 | N8: 0.12 | O8: 30
A9: 42862 | B9: zu Hause | C9: 18.5 | D9: 6 | E9: 7.03 | F9: 1.087 | G9: =IF(Gesamtübersicht!C9<>"",Gesamtübersicht!E9-Gesamtübersicht!F9,"") -> 5.943 | H9: 12.69 | I9: =IF(Gesamtübersicht!H9>0,Gesamtübersicht!H9*Gesamtübersicht!E9*1.07,"") -> 95.455449 | K9: =IF(Gesamtübersicht!C9<>"",Gesamtübersicht!G9/Gesamtübersicht!C9,"") -> 0.32124324 | L9: 270 | M9: 25 | N9: 0.16 | O9: 81
A10: 42863 | B10: zu Hause | C10: 12.5 | D10: 5 | E10: 5.5 | F10: 2 | G10: =IF(Gesamtübersicht!C10<>"",Gesamtübersicht!E10-Gesamtübersicht!F10,"") -> 3.5 | H10: 12.69 | I10: =IF(Gesamtübersicht!H10>0,Gesamtübersicht!H10*Gesamtübersicht!E10*1.07,"") -> 74.68065 | K10: =IF(Gesamtübersicht!C10<>"",Gesamtübersicht!G10/Gesamtübersicht!C10,"") -> 0.28 | L10: 210 | M10: 35 | N10: 0.14 | O10: 52
G11: =IF(Gesamtübersicht!C11<>"",Gesamtübersicht!E11-Gesamtübersicht!F11,"") | I11: =IF(Gesamtübersicht!H11>0,Gesamtübersicht!H11*Gesamtübersicht!E11*1.07,"") | K11: =IF(Gesamtübersicht!C11<>"",Gesamtübersicht!G11/Gesamtübersicht!C11,"")
G12: =IF(Gesamtübersicht!C12<>"",Gesamtübersicht!E12-Gesamtübersicht!F12,"") | I12: =IF(Gesamtübersicht!H12>0,Gesamtübersicht!H12*Gesamtübersicht!E12*1.07,"") | K12: =IF(Gesamtübersicht!C12<>"",Gesamtübersicht!G12/Gesamtübersicht!C12,"")
G13: =IF(Gesamtübersicht!C13<>"",Gesamtübersicht!E13-Gesamtübersicht!F13,"") | I13: =IF(Gesamtübersicht!H13>0,Gesamtübersicht!H13*Gesamtübersicht!E13*1.07,"") | K13: =IF(Gesamtübersicht!C13<>"",Gesamtübersicht!G13/Gesamtübersicht!C13,"")
G14: =IF(Gesamtübersicht!C14<>"",Gesamtübersicht!E14-Gesamtübersicht!F14,"") | I14: =IF(Gesamtübersicht!H14>0,Gesamtübersicht!H14*Gesamtübersicht!E14*1.07,"") | K14: =IF(Gesamtübersicht!C14<>"",Gesamtübersicht!G14/Gesamtübersicht!C14,"")
G15: =IF(Gesamtübersicht!C15<>"",Gesamtübersicht!E15-Gesamtübersicht!F15,"") | I15: =IF(Gesamtübersicht!H15>0,Gesamtübersicht!H15*Gesamtübersicht!E15*1.07,"") | K15: =IF(Gesamtübersicht!C15<>"",Gesamtübersicht!G15/Gesamtübersicht!C15,"")
G16: =IF(Gesamtübersicht!C16<>"",Gesamtübersicht!E16-Gesamtübersicht!F16,"") | I16: =IF(Gesamtübersicht!H16>0,Gesamtübersicht!H16*Gesamtübersicht!E16*1.07,"") | K16: =IF(Gesamtübersicht!C16<>"",Gesamtübersicht!G16/Gesamtübersicht!C16,"")
G17: =IF(Gesamtübersicht!C17<>"",Gesamtübersicht!E17-Gesamtübersicht!F17,"") | I17: =IF(Gesamtübersicht!H17>0,Gesamtübersicht!H17*Gesamtübersicht!E17*1.07,"") | K17: =IF(Gesamtübersicht!C17<>"",Gesamtübersicht!G17/Gesamtübersicht!C17,"")
G18: =IF(Gesamtübersicht!C18<>"",Gesamtübersicht!E18-Gesamtübersicht!F18,"") | I18: =IF(Gesamtübersicht!H18>0,Gesamtübersicht!H18*Gesamtübersicht!E18*1.07,"") | K18: =IF(Gesamtübersicht!C18<>"",Gesamtübersicht!G18/Gesamtübersicht!C18,"")
G19: =IF(Gesamtübersicht!C19<>"",Gesamtübersicht!E19-Gesamtübersicht!F19,"") | I19: =IF(Gesamtübersicht!H19>0,Gesamtübersicht!H19*Gesamtübersicht!E19*1.07,"") | K19: =IF(Gesamtübersicht!C19<>"",Gesamtübersicht!G19/Gesamtübersicht!C19,"")
G20: =IF(Gesamtübersicht!C20<>"",Gesamtübersicht!E20-Gesamtübersicht!F20,"") | I20: =IF(Gesamtübersicht!H20>0,Gesamtübersicht!H20*Gesamtübersicht!E20*1.07,"") | K20: =IF(Gesamtübersicht!C20<>"",Gesamtübersicht!G20/Gesamtübersicht!C20,"")
G21: =IF(Gesamtübersicht!C21<>"",Gesamtübersicht!E21-Gesamtübersicht!F21,"") | I21: =IF(Gesamtübersicht!H21>0,Gesamtübersicht!H21*Gesamtübersicht!E21*1.07,"") | K21: =IF(Gesamtübersicht!C21<>"",Gesamtübersicht!G21/Gesamtübersicht!C21,"")
G22: =IF(Gesamtübersicht!C22<>"",Gesamtübersicht!E22-Gesamtübersicht!F22,"") | I22: =IF(Gesamtübersicht!H22>0,Gesamtübersicht!H22*Gesamtübersicht!E22*1.07,"") | K22: =IF(Gesamtübersicht!C22<>"",Gesamtübersicht!G22/Gesamtübersicht!C22,"")
... G28: =IF(Gesamtübersicht!C28<>"",Gesamtübersicht!E28-Gesamtübersicht!F28,"") | I28: =IF(Gesamtübersicht!H28>0,Gesamtübersicht!H28*Gesamtübersicht!E28*1.07,"") | K28: =IF(Gesamtübersicht!C28<>"",Gesamtübersicht!G28/Gesamtübersicht!C28,"")

Sheet Gästeliste
A1: Personen | B1: Erw. | C1: Kinder/Jugend
A2: Familie A | B2: 2 | C2: 1
A3: Familie B | B3: 3 | C3: 1
A4: Familie C | B4: 1 | C4: 2
A5: Familie D | B5: 2 | C5: 1
A6: Familie E | B6: 2 | C6: 3
A17: Personen | B17: =SUM(Gästeliste!B2:B16) -> 10 | C17: =SUM(Gästeliste!C2:C16) -> 8
A18: Gesamt Personen | B18: =B17+C17 -> 18
A20: Für Lachs Berechnung | B20: =B17+(C17*E20) -> 14 | D20: Kinder mit | E20: 0.5 | F20: berechnet
E23: Durchschnitts Gewicht der Lachshälfte, bei Anzahl an Lachshälften
B24: je Person | C24: Summe | E24: 1 | F24: 2 | G24: 3 | H24: 4 | I24: 5 | J24: 6 | K24: 7 | L24: 8
A25: Lachs min | B25: =MIN(Gesamtübersicht!K3:K28) -> 0.28 | C25: =Gästeliste!B25*(Gästeliste!B17+(Gästeliste!C17/2)) -> 3.92 | E25: =Gästeliste!$C$25/Gästeliste!E24 -> 3.92 | F25: =Gästeliste!$C$25/Gästeliste!F24 -> 1.96 | G25: =Gästeliste!$C$25/Gästeliste!G24 -> 1.3066667 | H25: =Gästeliste!$C$25/Gästeliste!H24 -> 0.98 | I25: =Gästeliste!$C$25/Gästeliste!I24 -> 0.784 | J25: =Gästeliste!$C$25/Gästeliste!J24 -> 0.65333333 | K25: =Gästeliste!$C$25/Gästeliste!K24 -> 0.56 | L25: =Gästeliste!$C$25/Gästeliste!L24 -> 0.49
A26: Lachs ø | B26: =AVERAGE(Gesamtübersicht!K3:K28) -> 0.37519534 | C26: =Gästeliste!B26*(Gästeliste!B17+(Gästeliste!C17/2)) -> 5.2527348 | E26: =Gästeliste!$C$26/Gästeliste!E24 -> 5.2527348 | F26: =Gästeliste!$C$26/Gästeliste!F24 -> 2.6263674 | G26: =Gästeliste!$C$26/Gästeliste!G24 -> 1.7509116 | H26: =Gästeliste!$C$26/Gästeliste!H24 -> 1.3131837 | I26: =Gästeliste!$C$26/Gästeliste!I24 -> 1.050547 | J26: =Gästeliste!$C$26/Gästeliste!J24 -> 0.8754558 | K26: =Gästeliste!$C$26/Gästeliste!K24 -> 0.75039069 | L26: =Gästeliste!$C$26/Gästeliste!L24 -> 0.65659185
A27: Lachs max | B27: =MAX(Gesamtübersicht!K3:K28) -> 0.48571429 | C27: =Gästeliste!B27*(Gästeliste!B17+(Gästeliste!C17/2)) -> 6.8 | E27: =Gästeliste!$C$27/Gästeliste!E24 -> 6.8 | F27: =Gästeliste!$C$27/Gästeliste!F24 -> 3.4 | G27: =Gästeliste!$C$27/Gästeliste!G24 -> 2.2666667 | H27: =Gästeliste!$C$27/Gästeliste!H24 -> 1.7 | I27: =Gästeliste!$C$27/Gästeliste!I24 -> 1.36 | J27: =Gästeliste!$C$27/Gästeliste!J24 -> 1.1333333 | K27: =Gästeliste!$C$27/Gästeliste!K24 -> 0.97142857 | L27: =Gästeliste!$C$27/Gästeliste!L24 -> 0.85
A28: Vorgabe ø | B28: 0.39 | C28: =Gästeliste!B28*(Gästeliste!B17+(Gästeliste!C17/2)) -> 5.46 | E28: =Gästeliste!$C$28/Gästeliste!E24 -> 5.46 | F28: =Gästeliste!$C$28/Gästeliste!F24 -> 2.73 | G28: =Gästeliste!$C$28/Gästeliste!G24 -> 1.82 | H28: =Gästeliste!$C$28/Gästeliste!H24 -> 1.365 | I28: =Gästeliste!$C$28/Gästeliste!I24 -> 1.092 | J28: =Gästeliste!$C$28/Gästeliste!J24 -> 0.91 | K28: =Gästeliste!$C$28/Gästeliste!K24 -> 0.78 | L28: =Gästeliste!$C$28/Gästeliste!L24 -> 0.6825
A29: Gekauft | C29: =D32 -> 5.5 | E29: =C29/E24 -> 5.5 | F29: =C29/F24 -> 2.75 | G29: =C29/G24 -> 1.8333333 | H29: =C29/H24 -> 1.375 | I29: =C29/I24 -> 1.1 | J29: =C29/J24 -> 0.91666667 | K29: =C29/K24 -> 0.78571429 | L29: =C29/L24 -> 0.6875
A31: Ausgaben | C31: EK Vorgabe | D31: Menge | E31: EK je Einheit | F31: EK Summe
A32: Lachs | B32: Kg | D32: 5.5 | E32: =12.694*1.07 -> 13.58258 | F32: =Gästeliste!E32*Gästeliste!D32 -> 74.70419
A33: Salz | B33: gr | C33: 4 | D33: =D32*0.004 -> 0.022 | F33: =Gästeliste!E33*Gästeliste!D33 -> 0
A34: Zitronenpfeffer | B34: gr | C34: 3 | D34: =D32*0.003 -> 0.0165 | F34: =Gästeliste!E34*Gästeliste!D34 -> 0
A35: Gewürz 3 | B35: gr | D35: =D33*0.003 -> 6.6e-05 | F35: =Gästeliste!E35*Gästeliste!D35 -> 0
A36: Gewürz 4 | B36: gr | D36: =D34*0.003 -> 4.95e-05 | F36: =Gästeliste!E36*Gästeliste!D36 -> 0
A37: Gewürz 5 | B37: gr | D37: =D35*0.003 -> 1.98e-07 | F37: =Gästeliste!E37*Gästeliste!D37 -> 0
A38: Gravat Sauce | B38: ml | C38: =Gesamtübersicht!M2 -> 30 | D38: =C38*B20 -> 420 | E38: 0.002 | F38: =Gästeliste!E38*Gästeliste!G38 -> 0
A39: Kartoffeln | B39: Kg | C39: =Gesamtübersicht!L2/1000 -> 0.221 | D39: =B20*C39 -> 3.094 | E39: 2.99 | F39: =Gästeliste!E39*Gästeliste!G39 -> 0
A40: Baguette | B40: Stück | C40: =Gesamtübersicht!N2 -> 0.14 | D40: =Gesamtübersicht!N2*B20 -> 1.96 | E40: 1.95 | F40: =Gästeliste!E40*Gästeliste!G40 -> 0
A41: Zaziki | B41: Liter | C41: =Gesamtübersicht!O2/1000 -> 0.054333333 | D41: =Gesamtübersicht!O2*B20/1000 -> 0.76066667 | E41: 2.5 | F41: =Gästeliste!E41*Gästeliste!D41 -> 1.9016667
A42: Holz | B42: m³ | D42: 0.01 | E42: 70 | F42: =Gästeliste!E42*Gästeliste!D42 -> 0.7
A43: Gesamtsumme EK | F43: =SUM(Gästeliste!F32:F42) -> 77.305857
A44: EK Ø je Person | F44: =F43/B20 -> 5.5218469

Sheet Zeitablauf
A1: Zeitablauf
B2: Stunden | C2: Uhrzeit
A3: Lachs auftauen min. | B3: 0.20833333 | C3: =C5-B3 -> 0.20833333
A4: Bretter wässern | B4: 0.083333333 | C4: =C7-B4 -> 0.4375
A5: Lachs würzen | B5: 0.10416667 | C5: =C7-B5 -> 0.41666667
A6: Feuer anmachen | B6: 0.020833333 | C6: =C7-B6 -> 0.5
A7: Lachs ans Feuer | B7: 0.0625 | C7: =C8-B7 -> 0.52083333
A8: wann soll der Lachs fertig sein | C8: 0.58333333
